BEGIN:VCALENDAR
VERSION:2.0
PRODID:-//wp-events-plugin.com//7.2.3.1//EN
TZID:America/New_York
X-WR-TIMEZONE:America/New_York
BEGIN:VEVENT
UID:187@gemcitysports.com
DTSTART;TZID=America/New_York:20250301T213000
DTEND;TZID=America/New_York:20250301T230000
DTSTAMP:20250227T212645Z
URL:https://www.gemcitysports.com/schedule/brew-city-at-valhalla-fc/
SUMMARY:Brew City at Valhalla FC
DESCRIPTION:
CATEGORIES:Indoor Soccer,YouTube
END:VEVENT
BEGIN:VTIMEZONE
TZID:America/New_York
X-LIC-LOCATION:America/New_York
BEGIN:STANDARD
DTSTART:20241103T010000
TZOFFSETFROM:-0400
TZOFFSETTO:-0500
TZNAME:EST
END:STANDARD
END:VTIMEZONE
END:VCALENDAR